BEGIN:VCALENDAR
VERSION:2.0
PRODID:-//wp-events-plugin.com//7.2.3.1//EN
BEGIN:VEVENT
UID:107@laudatosicentre.org.uk
DTSTART:20250314T100000Z
DTEND:20250314T113000Z
DTSTAMP:20250204T160254Z
URL:https://laudatosicentre.org.uk/events/accessible-prayer-walk-march25/
SUMMARY:Accessible walking in nature with prayer group (working with Carita
 s)
DESCRIPTION:Join us for a free\, accessible nature-themed path at Laudato S
 i' Centre to encourage people to spend time connecting with nature without
  concern of accessibility.\n\nThis session will include:\n\n 	Moving aroun
 d the walled garden and woodland praying the Stations of the Cross\n 	Ou
 tdoor activity\, making a nature themed prayer card.  \n 	Refreshments
  will be provided\n\nA British Sign Language Interpreter will be present.\
 n\nPlaces are limited so reserving your free place is essential.\n\nBook y
 our place or get in touch\n\nBook a place now using this form.\n\nThis ses
 sion is open to anyone\, but if you have any accessibility needs you would
  like to let us know beforehand\, please do email accessibility@caritassa
 lford.org.uk  
ATTACH;FMTTYPE=image/jpeg:https://laudatosicentre.org.uk/wp-content/upload
 s/2023/07/LSC.jpg
CATEGORIES:Public
END:VEVENT
END:VCALENDAR