BEGIN:VCALENDAR
VERSION:2.0
PRODID:-//wp-events-plugin.com//7.2.3.1//EN
BEGIN:VEVENT
UID:115@laudatosicentre.org.uk
DTSTART:20250911T093000Z
DTEND:20250911T140000Z
DTSTAMP:20250826T150708Z
URL:https://laudatosicentre.org.uk/events/action-planning-session-for-pari
 shes/
SUMMARY:Action planning session for parishes
DESCRIPTION:&nbsp\;\n\nAs we approach the Season of Creation\, we are remin
 ded of Bishop John's call for us to take action to address the environment
 al crises of our time.\n\nTo help parishes respond to this call\, the Lau
 dato Si’ Centre has organised a drop-in session to offer advice and guid
 ance on taking steps towards preserving God’s creation - our beautiful c
 ommon home.\n\nThe session will take place on Thursday 11th September from
  9:30am – 2:00pm. If you would like to attend\, please email laudatosi@d
 ioceseofsalford.org.uk.\n\n&nbsp\;
ATTACH;FMTTYPE=image/jpeg:https://laudatosicentre.org.uk/wp-content/upload
 s/2025/01/Action-planning-e1756208943961.png
CATEGORIES:Public
END:VEVENT
END:VCALENDAR