BEGIN:VCALENDAR
VERSION:2.0
PRODID:-//wp-events-plugin.com//7.2.3.1//EN
BEGIN:VEVENT
UID:99@laudatosicentre.org.uk
DTSTART:20241129T093000Z
DTEND:20241129T133000Z
DTSTAMP:20241024T125559Z
URL:https://laudatosicentre.org.uk/events/november-prayer-service/
SUMMARY:Prayer Service
DESCRIPTION:Prayer service for those who have died\nOur Laudato Si' Centre 
 is inviting people to remember loved ones in a special way this November.\
 n\nOver the coming weeks\, we will be gathering together the names of our 
 loved ones\, which will be written down and hung in the centre's willow do
 me\, where visitors will be asked to pray for those people and their famil
 ies during the month of November.\n\nAll names will also be remembered dur
 ing a special prayer service on 29th November.\nMorning service:\n9.30am 
 – Prayer service – woodland with a walk\, ending at the willow dome wh
 ere the names of our loved ones are hanging up\n             
       Opportunity to add any other names to the willow dome\n10.15am 
 (approx) – Warm spiced apple drink and time for quiet\, individual refle
 ction\nAfternoon service:\n12.30pm - Prayer service - woodland with a walk
 \, ending at the willow dome where the names of our loved ones are hanging
  up\n                     Opportunity to add any other 
 names to the willow dome\n1pm (approx) - Warm spiced apple drink and time 
 for quiet\, individual reflection\nIf you would like your loved ones to be
  remembered in this way\, or would like to join the prayer service\, pleas
 e email laudatosi@dioceseofsalford.org.uk.
ATTACH;FMTTYPE=image/jpeg:https://laudatosicentre.org.uk/wp-content/upload
 s/2024/08/396287519_381161931144626_2047308852595978512_n-1.jpg
END:VEVENT
END:VCALENDAR