BEGIN:VCALENDAR
VERSION:2.0
PRODID:-//wp-events-plugin.com//7.2.3.1//EN
BEGIN:VEVENT
UID:112@laudatosicentre.org.uk
DTSTART:20250801T093000Z
DTEND:20250801T153000Z
DTSTAMP:20250626T112408Z
URL:https://laudatosicentre.org.uk/events/silent-retreat-aug25/
SUMMARY:Silent Retreat
DESCRIPTION:Join us on Friday 1 August for a prayerful Silent Retreat in th
 e grounds of our beautiful centre.\nBegin the day with a tour of Wardley H
 all and our Laudato Si' Centre before spending time in silent private pray
 er\, reflection\, and Adoration of the Blessed Sacrament\, as well as the 
 opportunity to take part in volunteering activities in our walled garden.\
 nThe day ends with Outdoor Mass and a final opportunity for reflection.\nE
 mail laudatosi@dioceseofsalford.org.uk to find out more and to register.\n
ATTACH;FMTTYPE=image/jpeg:https://laudatosicentre.org.uk/wp-content/upload
 s/2025/01/featured-rosary.jpg
CATEGORIES:Public
END:VEVENT
END:VCALENDAR