BEGIN:VCALENDAR
VERSION:2.0
PRODID:-//wp-events-plugin.com//7.2.3.1//EN
BEGIN:VEVENT
UID:1@laudatosicentre.org.uk
DTSTART;TZID=Europe/London;VALUE=DATE:20240408
DTEND;TZID=Europe/London;VALUE=DATE:20240419
DTSTAMP:20240405T075214Z
URL:https://laudatosicentre.org.uk/events/test-event/
SUMMARY:Test Event
DESCRIPTION:Some text just to test
ATTACH;FMTTYPE=image/jpeg:https://laudatosicentre.org.uk/wp-content/upload
 s/2024/03/lsc-featured.jpg
CATEGORIES:Public
END:VEVENT
BEGIN:VTIMEZONE
TZID:Europe/London
X-LIC-LOCATION:Europe/London
BEGIN:DAYLIGHT
DTSTART:20240331T020000
TZOFFSETFROM:+0000
TZOFFSETTO:+0100
TZNAME:BST
END:DAYLIGHT
END:VTIMEZONE
END:VCALENDAR