BEGIN:VCALENDAR
VERSION:2.0
PRODID:-//wp-events-plugin.com//7.2.3.1//EN
BEGIN:VEVENT
UID:93@laudatosicentre.org.uk
DTSTART:20241115T113000Z
DTEND:20241115T133000Z
DTSTAMP:20241024T145456Z
URL:https://laudatosicentre.org.uk/events/warm-spaces-nov-24/
SUMMARY:Soup and Si'
DESCRIPTION:Soup and Si'\nJoin us for a cosy afternoon of delicious soup fo
 llowed by a guided tour of the Laudato Si' Centre!\n\nLearn about sustaina
 bility\, environmental protection\, and the importance of caring for our c
 ommon home and how what we do links to Pope Francis' Laudato Si' encyclica
 l and Laudate Deum exhortation.\n\nIt's a great opportunity to connect wit
 h like-minded individuals and explore ways to make a positive impact on ou
 r planet in a relaxed informal setting over a shared lunch. This is a free
  event but donations would be gratefully received.\n\nDon't miss out on th
 is unique experience! Email laudatosi@dioceseofsalford.org.uk to find out 
 more and register.
ATTACH;FMTTYPE=image/jpeg:https://laudatosicentre.org.uk/wp-content/upload
 s/2024/09/soup.jpg
CATEGORIES:Public
END:VEVENT
END:VCALENDAR