BEGIN:VCALENDAR
VERSION:2.0
PRODID:-//wp-events-plugin.com//7.2.3.1//EN
BEGIN:VEVENT
UID:85@laudatosicentre.org.uk
DTSTART;VALUE=DATE:20241206
DTEND;VALUE=DATE:20241207
DTSTAMP:20241126T172840Z
URL:https://laudatosicentre.org.uk/events/wreath-workshop/
SUMMARY:Wreath Workshop
DESCRIPTION:Embrace a greener Christmas this winter by learning more about 
 how to create your own sustainable Christmas decorations. Join our Laudato
  Si' Centre team to discover how to make your very own Christmas wreath\, 
 perfect for decorating your home or gifting to loved ones this year!\n\nTh
 e workshop takes place on Friday 6 December. Times to be confirmed.\n\nBoo
 king is essential. Book online by clicking here or mail laudatosi@dioceseo
 fsalford.org.uk to find out more!
ATTACH;FMTTYPE=image/jpeg:https://laudatosicentre.org.uk/wp-content/upload
 s/2024/09/wreath.jpg
CATEGORIES:Public
END:VEVENT
END:VCALENDAR